BEGIN:VCALENDAR
VERSION:2.0
PRODID:-//wp-events-plugin.com//7.2.3.1//EN
BEGIN:VEVENT
UID:7@staucht.de
DTSTART;TZID=Europe/Berlin:20261001T150000
DTEND;TZID=Europe/Berlin:20261004T190000
DTSTAMP:20260309T103127Z
URL:https://www.staucht.de/events/deep-in-austria-vol-4/
SUMMARY:Deep in Austria Vol.4
DESCRIPTION:Bereits zum vierten Mal geht es im Herbst für fortgeschrittene
  Taucher an den Attersee.\nUnsere Base am Westufer (nur wenige 100 Meter v
 om ersten Tauchplatz entfernt) bietet uns eine solide Unterkunft in einer 
 großen Ferienwohnung. Die Unterbringung erfolgt in mehreren gemeinsamen D
 oppelzimmern (nach Verfügbarkeit auch als Einzelzimmer nutzbar). Beim gem
 einsamen Frühstück stärken wir uns für den Tag\, bevor es zusammen ode
 r in Einzelgruppen zu den unterschiedlichen Tauchplätzen geht. Die sehr g
 uten Sichtweiten im Oktober erlauben entspannte Tauchgänge mit viel Fisch
  im Sporttauchbereich\, genauso wie technische Tauchgänge mit CCR\, Trimi
 x und/oder Scooter. Ein ideales Gewässer mit perfekter Infrastruktur und 
 Gaslogistik. Volles Kursprogramm verfügbar!\n\nNoch unsicher? Schaut den 
 Beitrag von einer der letzten Attersee-Fahrten an: Tauchausflug Attersee O
 stern 2024\nAuf geht`s zum Attersee!\n\nEigene Anreise ab Donnerstagnachmi
 ttag\, Fahrgemeinschaften sind möglich und sinnvoll.\n\nMindestteilnehmer
 zahl erforderlich\, Anmeldeschluss: 30.06.2026
ATTACH;FMTTYPE=image/jpeg:https://www.staucht.de/wp-content/uploads/2026/0
 1/attersee.jpg
CATEGORIES:Tauchfahrten
LOCATION:Attersee\, Nussdorf am Attersee\, Nussdorf am Attersee\, Österrei
 ch
X-APPLE-STRUCTURED-LOCATION;VALUE=URI;X-ADDRESS=Nussdorf am Attersee\, Nuss
 dorf am Attersee\, Österreich;X-APPLE-RADIUS=100;X-TITLE=Attersee:geo:0,0
END:VEVENT
BEGIN:VTIMEZONE
TZID:Europe/Berlin
X-LIC-LOCATION:Europe/Berlin
BEGIN:DAYLIGHT
DTSTART:20260329T030000
TZOFFSETFROM:+0100
TZOFFSETTO:+0200
TZNAME:CEST
END:DAYLIGHT
END:VTIMEZONE
END:VCALENDAR